BEGIN:VCALENDAR
VERSION:2.0
PRODID:-//ChamberMaster//Event Calendar 2.0//EN
METHOD:PUBLISH
X-PUBLISHED-TTL:P3D
REFRESH-INTERVAL:P3D
CALSCALE:GREGORIAN
BEGIN:VEVENT
DTSTART:20130611T203000Z
DTEND:20130611T220000Z
X-MICROSOFT-CDO-ALLDAYEVENT:FALSE
SUMMARY:Roundtable with Myanmar Parliamentary Delegation
DESCRIPTION:The US-ASEAN Business Council and the U.S. Chamber of Commerce will co-host a roundtable with a delegation of parliamentary officials from Myanmar.
X-ALT-DESC;FMTTYPE=text/html:The US-ASEAN Business Council and the U.S. Chamber of Commerce will co-host a roundtable with a delegation of parliamentary officials from Myanmar.&nbsp\;&nbsp\;&nbsp\; 
LOCATION:U.S. Chamber of Commerce Amway and Emerson Rooms 1615 H St NW Washington\, DC
UID:e.9078.797
SEQUENCE:3
DTSTAMP:20260421T210216Z
URL:http://usasean.memberzone.com/events/details/roundtable-with-myanmar-parliamentary-delegation-06-11-2013-797
END:VEVENT

END:VCALENDAR
