BEGIN:VCALENDAR
VERSION:2.0
PRODID:-//ChamberMaster//Event Calendar 2.0//EN
METHOD:PUBLISH
X-PUBLISHED-TTL:P3D
REFRESH-INTERVAL:P3D
CALSCALE:GREGORIAN
BEGIN:VEVENT
DTSTART:20190815T130000Z
DTEND:20190815T140000Z
X-MICROSOFT-CDO-ALLDAYEVENT:FALSE
SUMMARY:Roundtable with Michael Heath\, Incoming Charge d'affaires\, U.S. Embassy Bangkok
DESCRIPTION:The Council is pleased to invite you to a roundtable with Mr. Michael heath\, incoming Charg  d'affaires\, U.S. Embassy\, Bangkok. This roundtable will be an opportunity for members to brief the incoming CDA Heath on priority issues and areas of interest in Thailand before he assumes his new post at the end of this month.\n\n\n\nFor more information or for any questions\, please contact Ella Duangkaew (eduangkaew@usasean.org).
X-ALT-DESC;FMTTYPE=text/html:<span style="font-size: 16px\; font-family: arial\;">The Council is pleased to invite you to a&nbsp\;<strong>roundtable with Mr. Michael heath\, incoming Charg</strong></span><strong style="font-size: 16px\;"><span style="font-family: arial\, sans-serif\;"><span style="font-size: 12pt\;">&eacute\;&nbsp\;</span></span></strong><span style="font-size: 16px\; font-family: arial\;"><strong>d&#39\;affaires\, U.S. Embassy\, Bangkok.</strong>&nbsp\;This roundtable will be an opportunity for members to brief the incoming CDA Heath on priority issues and areas of interest in Thailand before he assumes his new post at the end of this month.</span><br style="font-size: 16px\;" />\n<br style="font-size: 16px\;" />\n<span style="font-size: 16px\;">For more information or for any questions\, please contact Ella Duangkaew (eduangkaew@usasean.org).&nbsp\;</span>
LOCATION:US-ASEAN Business Council 1101 17th Street NW\, Suite 411 Washington\, DC 20036
UID:e.9078.7992
SEQUENCE:3
DTSTAMP:20260424T224134Z
URL:http://usasean.memberzone.com/events/details/roundtable-with-michael-heath-incoming-charge-d-affaires-u-s-embassy-bangkok-7992
END:VEVENT

END:VCALENDAR
