BEGIN:VCALENDAR
VERSION:2.0
PRODID:-//ChamberMaster//Event Calendar 2.0//EN
METHOD:PUBLISH
X-PUBLISHED-TTL:P3D
REFRESH-INTERVAL:P3D
CALSCALE:GREGORIAN
BEGIN:VEVENT
DTSTART:20191104T190000Z
DTEND:20191104T200000Z
X-MICROSOFT-CDO-ALLDAYEVENT:FALSE
SUMMARY:Roundtable with Martha Bowen\, Millennium Challenge Corporation
DESCRIPTION:
X-ALT-DESC;FMTTYPE=text/html:
LOCATION:
UID:e.9078.8055
SEQUENCE:3
DTSTAMP:20260424T182811Z
URL:http://usasean.memberzone.com/events/details/roundtable-with-martha-bowen-millennium-challenge-corporation-8055
END:VEVENT

END:VCALENDAR
