BEGIN:VCALENDAR
VERSION:2.0
PRODID:-//ChamberMaster//Event Calendar 2.0//EN
METHOD:PUBLISH
X-PUBLISHED-TTL:P3D
REFRESH-INTERVAL:P3D
CALSCALE:GREGORIAN
BEGIN:VEVENT
DTSTART:20191011T140000Z
DTEND:20191011T160000Z
X-MICROSOFT-CDO-ALLDAYEVENT:FALSE
SUMMARY:Roundtable with Invest KL\, Oct 11 - Washington\, DC
DESCRIPTION:
X-ALT-DESC;FMTTYPE=text/html:
LOCATION:
UID:e.9078.8045
SEQUENCE:3
DTSTAMP:20260424T195141Z
URL:http://usasean.memberzone.com/events/details/roundtable-with-invest-kl-oct-11-washington-dc-8045
END:VEVENT

END:VCALENDAR
