BEGIN:VCALENDAR
VERSION:2.0
PRODID:-//ChamberMaster//Event Calendar 2.0//EN
METHOD:PUBLISH
X-PUBLISHED-TTL:P3D
REFRESH-INTERVAL:P3D
CALSCALE:GREGORIAN
BEGIN:VEVENT
DTSTART:20130625T173000Z
DTEND:20130625T183000Z
X-MICROSOFT-CDO-ALLDAYEVENT:FALSE
SUMMARY:Roundtable with Indonesian Young Entrepreneurs Association (HIPMI) delegation
DESCRIPTION:A delegation from the Indonesian Young Entrepreneurs Association (HIPMI) will be visiting Washington D.C. on Tuesday\, June 25\, 2013. This year the group has organized to visit major cities in the United States including New York City\, Philadelphia and Washington D.C.\n\n	 \n\n	The objective of this visit is to build\, strengthen and foster business relationships between the young entrepreneurs\, Indonesian and American business in the United States. The delegation will participate in the International Franchise Expo and visit Jack Welch GE Leadership Center in New York City. \n\n	 \n\n	The delegates include President Directors of various businesses including energy\, healthcare\, agribusiness\, logistics solution\, construction\, multimedia and communication. \n\n	\n\n	Please RSVP before Monday\, June 24\, 2013.
X-ALT-DESC;FMTTYPE=text/html:<div>\n	A delegation from the Indonesian Young Entrepreneurs Association (HIPMI) will be visiting Washington D.C. on Tuesday\, June 25\, 2013. This year the group has organized to visit major cities in the United States including New York City\, Philadelphia and Washington D.C.</div>\n<div>\n	&nbsp\;</div>\n<div>\n	The objective of this visit is to build\, strengthen and foster business relationships between the young entrepreneurs\, Indonesian and American business in the United States. The delegation will participate in the International Franchise Expo and visit Jack Welch GE Leadership Center in New York City.&nbsp\;</div>\n<div>\n	&nbsp\;</div>\n<div>\n	The delegates include President Directors of various businesses including energy\, healthcare\, agribusiness\, logistics solution\, construction\, multimedia and communication.&nbsp\;<br />\n	<br />\n	Please RSVP before Monday\, June 24\, 2013.</div>\n<div>\n	&nbsp\;</div>\n
LOCATION:The Embassy of the Republic of Indonesia 2020 Massachusetts Avenue\, NW
UID:e.9078.825
SEQUENCE:3
DTSTAMP:20260421T210216Z
URL:http://usasean.memberzone.com/events/details/roundtable-with-indonesian-young-entrepreneurs-association-hipmi-delegation-06-25-2013-825
END:VEVENT

END:VCALENDAR
