BEGIN:VCALENDAR
VERSION:2.0
PRODID:-//ChamberMaster//Event Calendar 2.0//EN
METHOD:PUBLISH
X-PUBLISHED-TTL:P3D
REFRESH-INTERVAL:P3D
CALSCALE:GREGORIAN
BEGIN:VEVENT
DTSTART:20140702T130000Z
DTEND:20140702T140000Z
X-MICROSOFT-CDO-ALLDAYEVENT:FALSE
SUMMARY:Roundtable with Indonesian Food and Drug Agency (BPOM)
DESCRIPTION:Please join us for a roundtable with a delegation from the Indonesian Food and Drug Agency (BPOM) and the Indonesian private sector. The delegation includes:\n\n \n\n	Mr. Roy A Sparringa\, Chairman of NADFC\n	Mrs. Antonia Retno Tyas Utami\, Expert Staff (Former Deputy of Therapeutic Product\, Narcotic\, Psychotropic and Addictive Substances Control)\n	Mr. Halim Nababan\, Director of Food Safety Surveillance\n	Achmad Gozali HM\, Head of International Cooperation Bureau\n	Mr. Ferry Soetikno\, President of Dexa Medica and Chairman of GPFI (Indonesian Pharmaceutical Association)\n	Mr. Tirto F. Kusnadi\, President of Mersi Pharma and Secretary General GPFI (Indonesian Pharmaceutical Association)\n	Mr. Andreas Halim Djamwari\, President Director Actavis Indonesia\, Committee on Commerce / Foreign Trade GPFI\n	Mr. Adhi Siswaya Lukman\, Chairman of GAPMMI (Indonesian Food and Beverages Association)\n	Mr. Jap Indrayana\, GAPMMI\, (Indonesian Food and Beverages Association)
X-ALT-DESC;FMTTYPE=text/html:Please join us for a roundtable with a delegation from the Indonesian Food and Drug Agency (BPOM) and the Indonesian private sector. The delegation includes:<br />\n&nbsp\;\n<ol>\n	<li>Mr. Roy A Sparringa\, Chairman of NADFC</li>\n	<li>Mrs. Antonia Retno Tyas Utami\, Expert Staff (Former Deputy of Therapeutic Product\, Narcotic\, Psychotropic and Addictive Substances Control)</li>\n	<li>Mr. Halim Nababan\, Director of Food Safety Surveillance</li>\n	<li>Achmad Gozali HM\, Head of International Cooperation Bureau</li>\n	<li>Mr. Ferry Soetikno\, President of Dexa Medica and Chairman of GPFI (Indonesian Pharmaceutical Association)</li>\n	<li>Mr. Tirto F. Kusnadi\, President of Mersi Pharma and Secretary General GPFI (Indonesian Pharmaceutical Association)</li>\n	<li>Mr. Andreas Halim Djamwari\, President Director Actavis Indonesia\, Committee on Commerce / Foreign Trade GPFI</li>\n	<li>Mr. Adhi Siswaya Lukman\, Chairman of GAPMMI (Indonesian Food and Beverages Association)</li>\n	<li>Mr. Jap Indrayana\, GAPMMI\, (Indonesian Food and Beverages Association)&nbsp\;<br />\n	&nbsp\;</li>\n</ol>\n
LOCATION:Generously hosted by: Cargill 1030 15th Street\, NW Suite 650 West Washington D.C.
UID:e.9078.1180
SEQUENCE:3
DTSTAMP:20260420T073051Z
URL:http://usasean.memberzone.com/events/details/roundtable-with-indonesian-food-and-drug-agency-bpom-07-02-2014-1180
END:VEVENT

END:VCALENDAR
