BEGIN:VCALENDAR
VERSION:2.0
PRODID:-//ChamberMaster//Event Calendar 2.0//EN
METHOD:PUBLISH
X-PUBLISHED-TTL:P3D
REFRESH-INTERVAL:P3D
CALSCALE:GREGORIAN
BEGIN:VEVENT
DTSTART:20231011T143000Z
DTEND:20231011T153000Z
X-MICROSOFT-CDO-ALLDAYEVENT:FALSE
SUMMARY:Roundtable with Incoming Commercial Attache Sichao Ni (U.S. Embassy in Singapore)
DESCRIPTION:During the discussions\, we welcome members to share their views on Singapore's business environment\, including the opportunities and challenges\, as well as how the U.S. Commercial Service can help on the ground.
X-ALT-DESC;FMTTYPE=text/html:<span style="font-family: arial\, sans-serif\; font-size: 14.6667px\;">During the discussions\, we welcome members to share their views on Singapore&rsquo\;s business environment\, including the opportunities and challenges\, as well as how the U.S. Commercial Service can help on the ground.</span>
LOCATION:Hybrid Event
UID:e.9078.9167
SEQUENCE:3
DTSTAMP:20260421T160822Z
URL:http://usasean.memberzone.com/events/details/roundtable-with-incoming-commercial-attache-sichao-ni-u-s-embassy-in-singapore-9167
END:VEVENT

END:VCALENDAR
