BEGIN:VCALENDAR
VERSION:2.0
PRODID:-//ChamberMaster//Event Calendar 2.0//EN
METHOD:PUBLISH
X-PUBLISHED-TTL:P3D
REFRESH-INTERVAL:P3D
CALSCALE:GREGORIAN
BEGIN:VEVENT
DTSTART:20150306T200000Z
DTEND:20150306T210000Z
X-MICROSOFT-CDO-ALLDAYEVENT:FALSE
SUMMARY:Roundtable with Holly Vineyard\, Deputy Assistant Secretary for Asia\, Commerce
DESCRIPTION:
X-ALT-DESC;FMTTYPE=text/html:
LOCATION:US-ASEAN Business Council 1101 17th Street NW\, Suite 411 Washington\, DC 20002
UID:e.9078.1496
SEQUENCE:3
DTSTAMP:20260419T191419Z
URL:http://usasean.memberzone.com/events/details/roundtable-with-holly-vineyard-deputy-assistant-secretary-for-asia-commerce-03-06-2015-1496
END:VEVENT

END:VCALENDAR
