BEGIN:VCALENDAR
VERSION:2.0
PRODID:-//ChamberMaster//Event Calendar 2.0//EN
METHOD:PUBLISH
X-PUBLISHED-TTL:P3D
REFRESH-INTERVAL:P3D
CALSCALE:GREGORIAN
BEGIN:VEVENT
DTSTART:20131122T143000Z
DTEND:20131122T153000Z
X-MICROSOFT-CDO-ALLDAYEVENT:FALSE
SUMMARY:Roundtable with Holly Vineyard\, Deputy Assistant Secretary for Asia
DESCRIPTION:Roundtable Discussion with Holly Vineyard\n\nDeputy Assistant Secretary for Asia
X-ALT-DESC;FMTTYPE=text/html:Roundtable Discussion with Holly Vineyard<br />\nDeputy Assistant Secretary for Asia
LOCATION:US-ASEAN Business Council Offices 1101 17th Street NW Suite 411 Washington D.C. Call-in available
UID:e.9078.973
SEQUENCE:3
DTSTAMP:20260421T075042Z
URL:http://usasean.memberzone.com/events/details/roundtable-with-holly-vineyard-deputy-assistant-secretary-for-asia-11-22-2013-973
END:VEVENT

END:VCALENDAR
