BEGIN:VCALENDAR
VERSION:2.0
PRODID:-//ChamberMaster//Event Calendar 2.0//EN
METHOD:PUBLISH
X-PUBLISHED-TTL:P3D
REFRESH-INTERVAL:P3D
CALSCALE:GREGORIAN
BEGIN:VEVENT
DTSTART:20150304T190000Z
DTEND:20150304T200000Z
X-MICROSOFT-CDO-ALLDAYEVENT:FALSE
SUMMARY:Roundtable with H.E. Khairy Jamaluddin\, Ministry of Youth and Sports | March 4\, 2015
DESCRIPTION:Please join the Council for a roundtable with His Excellency Khairy Jamaluddin\, Minister of Youth and Sports and a Member of Parliament. A biography for Minister Khairy has been provided below.\n\n \n\nKhairy Jamaluddin\n\nMinister of Youth and Sports\n\n \n\nH.E. Minister Khairy Jamaluddin is a Malaysian Minister of Youth and Sports and a Member of Parliament representing the Rembau constituency in Negeri Sembilan. He is also Leader of UMNO Youth and the Chairman of Barisan Nasional Youth.   He began his political career as Deputy Chief of Malaysia's leading political party (UMNO)'s youth wing and served as a close personal advisor to the then Prime Minister Abdullah Ahmad Badawi. Prior to entering politics\, he worked as a journalist\, policy aide and investment banker. He has written for many major publications including The Economist\, Time and the Wall Street Journal. In 2005\, the World Economic Forum in Davos selected him as a Young Global Leader and he was made an Asia 21 Fellow by the Asia Society in 2006.  His Excellency was a Visiting Fellow at the Oxford Centre for Islamic Studies in 2002. Currently\, he serves as the Commander of the 508 AW Regiment in the Malaysian Territorial Army.  An avid soccer fan\, His Excellency was Vice President of Football Association of Malaysia from 2007 to 2010. He received his Bachelor's degree in Philosophy\, Politics and Economics (PPE) from St. Hugh's College\, Oxford University and Master's degree in Legal and Political Theory from University College London in 1998.\n\n \n\nFor questions please contact Colette Morgan at cmorgan@usasean.org or (202) 416-6719.
X-ALT-DESC;FMTTYPE=text/html:<br />\nPlease join the Council for a roundtable with His Excellency Khairy Jamaluddin\, Minister of Youth and Sports and a Member of Parliament. A biography for Minister Khairy has been provided below.<br />\n&nbsp\;<br />\n<strong>Khairy Jamaluddin</strong><br />\n<strong>Minister of Youth and Sports</strong><br />\n&nbsp\;<br />\nH.E. Minister Khairy Jamaluddin is a Malaysian Minister of Youth and Sports and a Member of Parliament representing the Rembau constituency in Negeri Sembilan. He is also Leader of UMNO Youth and the Chairman of Barisan Nasional Youth. &nbsp\; He began his political career as Deputy Chief of Malaysia&rsquo\;s leading political party (UMNO)&rsquo\;s youth wing and served as a close personal advisor to the then Prime Minister Abdullah Ahmad Badawi. Prior to entering politics\, he worked as a journalist\, policy aide and investment banker. He has written for many major publications including The Economist\, Time and the Wall Street Journal. In 2005\, the World Economic Forum in Davos selected him as a Young Global Leader and he was made an Asia 21 Fellow by the Asia Society in 2006. &nbsp\;His Excellency was a Visiting Fellow at the Oxford Centre for Islamic Studies in 2002. Currently\, he serves as the Commander of the 508 AW Regiment in the Malaysian Territorial Army. &nbsp\;An avid soccer fan\, His Excellency was Vice President of Football Association of Malaysia from 2007 to 2010.&nbsp\;He received his Bachelor&#39\;s degree in Philosophy\, Politics and Economics (PPE) from St. Hugh&rsquo\;s College\, Oxford University and Master&#39\;s degree in Legal and Political Theory from University College London in 1998.<br />\n&nbsp\;<br />\n<strong>For questions please contact Colette Morgan at&nbsp\;<a href="mailto:cmorgan@usasean.org">cmorgan@usasean.org</a>&nbsp\;or (202) 416-6719.</strong>
LOCATION:
UID:e.9078.1493
SEQUENCE:3
DTSTAMP:20260419T172202Z
URL:http://usasean.memberzone.com/events/details/roundtable-with-h-e-khairy-jamaluddin-ministry-of-youth-and-sports-march-4-2015-03-04-2015-1493
END:VEVENT

END:VCALENDAR
