BEGIN:VCALENDAR
VERSION:2.0
PRODID:-//ChamberMaster//Event Calendar 2.0//EN
METHOD:PUBLISH
X-PUBLISHED-TTL:P3D
REFRESH-INTERVAL:P3D
CALSCALE:GREGORIAN
BEGIN:VEVENT
DTSTART:20180611T151500Z
DTEND:20180611T160000Z
X-MICROSOFT-CDO-ALLDAYEVENT:FALSE
SUMMARY:Roundtable with H.E. Dato Erywan\, Brunei's Second Minister of Foreign Affairs and Trade
DESCRIPTION:Please join us for a roundtable discussion with H.E. Dato Erywan\, Brunei's Second Minister of Foreign Affairs and Trade on Monday\, June 11 from 11:15 AM - 12:00 PM during his visit to Washington\, DC. During the roundtable\, Dato Erywan will provide an update on Brunei's latest development following the cabinet reshuffle in February\, as well as on policies and trends in Brunei. \n\n\n\nIf you would like to attend the roundtable\, please register before COB Thursday\, June 7. Please contact with Artha Sirait at asirait@usasean.org with any questions.
X-ALT-DESC;FMTTYPE=text/html:Please join us for a roundtable discussion with H.E. Dato Erywan\, Brunei&#39\;s Second Minister of Foreign Affairs and Trade on Monday\, June 11 from 11:15 AM - 12:00 PM during his visit to Washington\, DC. During the roundtable\, Dato Erywan&nbsp\;will&nbsp\;<span style="color: rgb(68\, 68\, 68)\; font-family: Arial\, Helvetica\, sans-serif\; font-size: 14px\;">provide an update on Brunei&#39\;s latest development following the cabinet reshuffle in February\, as well as on&nbsp\;policies and trends in Brunei.&nbsp\;</span><br />\n<br />\n<span style="color: rgb(68\, 68\, 68)\; font-family: Arial\, Helvetica\, sans-serif\; font-size: 14px\;">If you would like to attend the roundtable\, please register before COB Thursday\, June 7. Please contact with Artha Sirait at asirait@usasean.org with any questions.</span>
LOCATION:US-ASEAN Business Council 1101 17th Street NW\, Suite 411 Washington\, D.C.
UID:e.9078.6592
SEQUENCE:3
DTSTAMP:20260419T235512Z
URL:http://usasean.memberzone.com/events/details/roundtable-with-h-e-dato-erywan-brunei-s-second-minister-of-foreign-affairs-and-trade-6592
END:VEVENT

END:VCALENDAR
