BEGIN:VCALENDAR
VERSION:2.0
PRODID:-//ChamberMaster//Event Calendar 2.0//EN
METHOD:PUBLISH
X-PUBLISHED-TTL:P3D
REFRESH-INTERVAL:P3D
CALSCALE:GREGORIAN
BEGIN:VEVENT
DTSTART:20140522T130000Z
DTEND:20140522T140000Z
X-MICROSOFT-CDO-ALLDAYEVENT:FALSE
SUMMARY:Roundtable with Department of Human Rights/Labor
DESCRIPTION:Discussion with Jason Pielemeir\, Section Lead\, Business\, Human Rights\, and Internet Freedom\n\nBureau of Democracy\, Human Rights\, and Labor
X-ALT-DESC;FMTTYPE=text/html:Discussion with Jason Pielemeir\, Section Lead\, Business\, Human Rights\, and Internet Freedom<br />\nBureau of Democracy\, Human Rights\, and Labor&nbsp\;&nbsp\;&nbsp\;&nbsp\;&nbsp\;&nbsp\;&nbsp\;
LOCATION:US-ASEAN Business Council Offices 1101 17th street nw Suite 411 Washington DC
UID:e.9078.1150
SEQUENCE:3
DTSTAMP:20260422T132720Z
URL:http://usasean.memberzone.com/events/details/roundtable-with-department-of-human-rights-labor-05-22-2014-1150
END:VEVENT

END:VCALENDAR
