BEGIN:VCALENDAR
VERSION:2.0
PRODID:-//ChamberMaster//Event Calendar 2.0//EN
METHOD:PUBLISH
X-PUBLISHED-TTL:P3D
REFRESH-INTERVAL:P3D
CALSCALE:GREGORIAN
BEGIN:VEVENT
DTSTART:20190726T190000Z
DTEND:20190726T200000Z
X-MICROSOFT-CDO-ALLDAYEVENT:FALSE
SUMMARY:Roundtable with David Lyman\, Chairman & Chief Values Officer\, Tilleke & Gibbins
DESCRIPTION:The Council is pleased to invite you to a roundtable with Mr. David Lyman\, Chairman and Chief Values Officer of Tilleke & Gibbins. Having also served as the Founder of the Joint Foreign Chambers of Commerce in Thailand and a Past President of AmCham Thailand\, Mr. Lyman is a foremost expert on the Thai business environment. During this roundtable\, Mr. Lyman will provide valuable context to members on Thailand in advance of the 2019 Thailand Business Mission next month (for more information and to register for the Mission\, click here).\n\n\n\nFor more information or for any questions\, please contact Ella Duangkaew (eduangkaew@usasean.org).
X-ALT-DESC;FMTTYPE=text/html:<span style="font-size: 12pt\; font-family: Arial\, sans-serif\;">The Council is pleased to invite you to a&nbsp\;<strong>roundtable with&nbsp\;Mr. David Lyman\,&nbsp\;Chairman and Chief Values Officer of Tilleke &amp\; Gibbins.</strong>&nbsp\;Having also served as the Founder of the Joint Foreign Chambers of Commerce in Thailand and a Past President of AmCham Thailand\, Mr. Lyman is a foremost expert on the Thai business environment. During this roundtable\, Mr. Lyman will provide valuable context to members on Thailand in advance of the 2019 Thailand Business Mission next month (for more information and to register for the Mission\, click <a href="http://usasean.memberzone.com/events/details/2019-thailand-business-mission-7946">here</a>).<br />\n<br />\nFor more information or for any questions\, please contact Ella Duangkaew (<a href="mailto:eduangkaew@usasean.org">eduangkaew@usasean.org</a>).&nbsp\;</span>
LOCATION:US-ASEAN Business Council 1101 17th Street NW Suite 411 Washington\, DC
UID:e.9078.7961
SEQUENCE:3
DTSTAMP:20260425T001838Z
URL:http://usasean.memberzone.com/events/details/roundtable-with-david-lyman-chairman-chief-values-officer-tilleke-gibbins-7961
END:VEVENT

END:VCALENDAR
