BEGIN:VCALENDAR
VERSION:2.0
PRODID:-//ChamberMaster//Event Calendar 2.0//EN
METHOD:PUBLISH
X-PUBLISHED-TTL:P3D
REFRESH-INTERVAL:P3D
CALSCALE:GREGORIAN
BEGIN:VEVENT
DTSTART:20190613T180000Z
DTEND:20190613T190000Z
X-MICROSOFT-CDO-ALLDAYEVENT:FALSE
SUMMARY:Roundtable with Commercial Officer Santiago Davila\, U.S. Embassy Kuala Lumpur
DESCRIPTION:Please join us for a roundtable with Santiago Davila during his visit back to Washington\, DC for the SelectUSA Summit. Santiago has been posted to Kuala Lumpur for the past year and will be continuing on in KL while Senior Commercial Officer Catherine Spillman rotates out this summer. Click here for Santiago's bio.
X-ALT-DESC;FMTTYPE=text/html:<span style="font-family:arial\,sans-serif\;"><span style="font-size:12.0pt\;">Please join us for a roundtable with Santiago Davila during his visit back to Washington\, DC for the SelectUSA Summit. Santiago has been posted to Kuala Lumpur for the past year and will be continuing on in KL while Senior Commercial Officer Catherine Spillman rotates out this summer. <a href="https://protect-us.mimecast.com/s/dQspCgJyBwUqR4AH2NqnM">Click here for Santiago&#39\;s bio</a>.</span></span>
LOCATION:US-ASEAN Business Council 1101 17th St NW\, Suite 411 Washington\, DC
UID:e.9078.7912
SEQUENCE:3
DTSTAMP:20260425T021831Z
URL:http://usasean.memberzone.com/events/details/roundtable-with-commercial-officer-santiago-davila-u-s-embassy-kuala-lumpur-7912
END:VEVENT

END:VCALENDAR
