BEGIN:VCALENDAR
VERSION:2.0
PRODID:-//ChamberMaster//Event Calendar 2.0//EN
METHOD:PUBLISH
X-PUBLISHED-TTL:P3D
REFRESH-INTERVAL:P3D
CALSCALE:GREGORIAN
BEGIN:VEVENT
DTSTART:20230810T180000Z
DTEND:20230810T190000Z
X-MICROSOFT-CDO-ALLDAYEVENT:FALSE
SUMMARY:Roundtable with Catherine Spillman\, incoming Senior Commercial Officer\, U.S. Embassy Bangkok\, on Thailand\, Cambodia\, Laos\, and Myanmar
DESCRIPTION:
X-ALT-DESC;FMTTYPE=text/html:
LOCATION:US-ASEAN Business Council\, Washington DC Office
UID:e.9078.9090
SEQUENCE:3
DTSTAMP:20260421T051407Z
URL:http://usasean.memberzone.com/events/details/roundtable-with-catherine-spillman-incoming-senior-commercial-officer-u-s-embassy-bangkok-on-thailand-cambodia-laos-and-myanmar-9090
END:VEVENT

END:VCALENDAR
