BEGIN:VCALENDAR
VERSION:2.0
PRODID:-//ChamberMaster//Event Calendar 2.0//EN
METHOD:PUBLISH
X-PUBLISHED-TTL:P3D
REFRESH-INTERVAL:P3D
CALSCALE:GREGORIAN
BEGIN:VEVENT
DTSTART;VALUE=DATE:20120423
DTEND;VALUE=DATE:20120424
TRANSP:TRANSPARENT
X-MICROSOFT-CDO-ALLDAYEVENT:TRUE
SUMMARY:Roundtable with ASWSC - Apr 23 2012
DESCRIPTION:
X-ALT-DESC;FMTTYPE=text/html:
LOCATION:
UID:e.9078.540
SEQUENCE:3
DTSTAMP:20260425T023505Z
URL:http://usasean.memberzone.com/events/details/roundtable-with-aswsc-apr-23-2012-04-23-2012-540
END:VEVENT

END:VCALENDAR
