BEGIN:VCALENDAR
VERSION:2.0
PRODID:-//ChamberMaster//Event Calendar 2.0//EN
METHOD:PUBLISH
X-PUBLISHED-TTL:P3D
REFRESH-INTERVAL:P3D
CALSCALE:GREGORIAN
BEGIN:VEVENT
DTSTART:20140811T143000Z
DTEND:20140811T153000Z
X-MICROSOFT-CDO-ALLDAYEVENT:FALSE
SUMMARY:Roundtable with Assistant Secretary Charles H. Rivkin\, Bureau of Economic and Business Affairs
DESCRIPTION:Charles H. Rivkin\n\nAssistant Secretary\, Bureau of Economic and Business Affairs\n\n\n\nCharles H. Rivkin currently serves as the Assistant Secretary of State for Economic and Business Affairs.  He was confirmed by the U.S. Senate on February 11\, 2014\, and was sworn into office by U.S. Secretary of State John Kerry on April 15\, 2014.\n\n\n\nPrior to his appointment\, Rivkin served for more than four years as the United States Ambassador to France and Monaco.  He was the youngest Ambassador in nearly 60 years to serve as the senior U.S. representative in France\, and his confirmation as Assistant Secretary marks the first time a non-career bilateral ambassador has led the EB bureau.\n\n\n\nPrior to his government service\, Ambassador Rivkin worked in the media sector for over 20 years where he served as President and CEO of award-winning entertainment companies such as The Jim Henson Company and Wildbrain. Rivkin helped engineer the sale of The Jim Henson Company to EM.TV in 2000 for nearly $1 billion. His contribution to the television landscape has influenced generations of viewers\, and in 2009 Rivkin was named one of the 100 Most Creative People in Business by Fast Company.
X-ALT-DESC;FMTTYPE=text/html:<br />\n<span style="font-size:14px\;"><span style="font-family:arial\;"><strong><span class="official_s_title-" style="margin: 0px\; padding: 0px\; border: 0px\; outline: 0px\; font-weight: bold\; color: rgb(0\, 0\, 0)\; line-height: 16px\;">Charles H. Rivkin<br />\nAssistant Secretary</span><span class="official_s_bureau" style="margin: 0px\; padding: 0px\; border: 0px\; outline: 0px\; font-weight: bold\; color: rgb(0\, 0\, 0)\; line-height: 16px\;">\,&nbsp\;Bureau of Economic and Business Affairs</span></strong></span></span><br />\n<br />\n<span style="font-family:arial\;"><span style="font-size:12px\;"><span style="padding:0px\;border:0px\;outline:0px\;font-weight:inherit\;font-style:inherit\;">Charles H. Rivkin currently serves as the Assistant Secretary of State for Economic and Business Affairs.&nbsp\; He was confirmed by the U.S. Senate on February 11\, 2014\, and was sworn into office by U.S. Secretary of State John Kerry on April 15\, 2014.</span><br />\n<br />\n<span style="padding:0px\;border:0px\;outline:0px\;font-weight:inherit\;font-style:inherit\;">Prior to his appointment\, Rivkin served for more than four years as the United States Ambassador to France and Monaco.&nbsp\; He was the youngest Ambassador in nearly 60 years to serve as the senior U.S. representative in France\, and his confirmation as Assistant Secretary marks the first time a non-career bilateral ambassador has led the EB bureau.</span></span></span><br />\n<br />\n<span style="color: rgb(37\, 37\, 37)\; font-family: Arial\, sans-serif\; font-size: 12px\; line-height: 20px\;">Prior to his government service\, Ambassador Rivkin worked in the media sector for over 20 years where he served as President and CEO of award-winning entertainment companies such as The Jim Henson Company and Wildbrain. Rivkin helped engineer the sale of The Jim Henson Company to EM.TV in 2000 for nearly $1 billion. His contribution to the television landscape has influenced generations of viewers\, and in 2009 Rivkin was named one of the 100 Most Creative People in Business by Fast Company.</span>
LOCATION:U.S. Department of State Room 4477 21st St. Entrance Washington\, DC 20522
UID:e.9078.1223
SEQUENCE:3
DTSTAMP:20260420T074148Z
URL:http://usasean.memberzone.com/events/details/roundtable-with-assistant-secretary-charles-h-rivkin-bureau-of-economic-and-business-affairs-08-11-2014-1223
END:VEVENT

END:VCALENDAR
