BEGIN:VCALENDAR
VERSION:2.0
PRODID:-//ChamberMaster//Event Calendar 2.0//EN
METHOD:PUBLISH
X-PUBLISHED-TTL:P3D
REFRESH-INTERVAL:P3D
CALSCALE:GREGORIAN
BEGIN:VEVENT
DTSTART:20140225T160000Z
DTEND:20140225T170000Z
X-MICROSOFT-CDO-ALLDAYEVENT:FALSE
SUMMARY:Roundtable with Ambassador JJ and Former Deputy Minister of Finance\, Dr. Awang
DESCRIPTION:Please join the Council in discussion with Dato' Dr. Awang and Datuk Seri JJ will focus on Malaysia's political and economic developments as well as President Obama's upcoming visit to Malaysia.\n\n\n\nPLEASE NOTE: THIS EVENT IS OFF THE RECORD
X-ALT-DESC;FMTTYPE=text/html:<span style="font-family:arial\,sans-serif\;"><span style="font-size:12.0pt\;">Please join the Council in&nbsp\;discussion with&nbsp\;Dato&rsquo\; Dr. Awang and&nbsp\;Datuk Seri JJ will focus on&nbsp\;Malaysia&#39\;s political and economic developments as well as President Obama&#39\;s upcoming visit to Malaysia.</span></span><br />\n<br />\n<strong><span style="color:red\;"><span style="font-family:georgia\,serif\;"><span style="font-size:12.0pt\;">PLEASE NOTE: THIS EVENT IS OFF THE RECORD</span></span></span></strong><br />\n<br />\n
LOCATION:US-ASEAN Business Council 1101 17th St. NW\, Suite 411 Washington\, DC
UID:e.9078.1053
SEQUENCE:3
DTSTAMP:20260421T023317Z
URL:http://usasean.memberzone.com/events/details/roundtable-with-ambassador-jj-and-former-deputy-minister-of-finance-dr-awang-02-25-2014-1053
END:VEVENT

END:VCALENDAR
