BEGIN:VCALENDAR
VERSION:2.0
PRODID:-//ChamberMaster//Event Calendar 2.0//EN
METHOD:PUBLISH
X-PUBLISHED-TTL:P3D
REFRESH-INTERVAL:P3D
CALSCALE:GREGORIAN
BEGIN:VEVENT
DTSTART:20180426T020000Z
DTEND:20180426T033000Z
X-MICROSOFT-CDO-ALLDAYEVENT:FALSE
SUMMARY:Roundtable on the ASEAN Sustainable Urbanisation Strategy Project
DESCRIPTION:This roundtable hosted by AlphaBeta will discuss strategies to promote and implement sustainable urbanisation in ASEAN cities. The discussion will help to futher the Master Plan on ASEAN Connectivity (MPAC) 2025's project\, "Study to Advance Sustainable Urbanisation in ASEAN".\n\n\n\nParticipants will be briefed on the ASEAN Sustainable Urbanisation Strategy\, be welcomed to contribute perspectives on potential or existing challenges in implementing sustainable urbanisation projects in ASEAN\, and raise ideas on priority opportunities to drive sustainable urbanisation.
X-ALT-DESC;FMTTYPE=text/html:<span style="font-family:arial\;"><span style="font-size:14px\;">This roundtable hosted by AlphaBeta will&nbsp\;discuss strategies to promote and implement&nbsp\;sustainable&nbsp\;urbanisation&nbsp\;in ASEAN cities.&nbsp\;The discussion will help to&nbsp\;futher&nbsp\;the Master Plan on ASEAN Connectivity&nbsp\;(MPAC) 2025&#39\;s project\, &quot\;Study to Advance Sustainable Urbanisation in ASEAN&quot\;.<br />\n<br />\nParticipants will be&nbsp\;briefed on the ASEAN Sustainable&nbsp\;Urbanisation&nbsp\;Strategy\,&nbsp\;be welcomed to contribute perspectives on potential&nbsp\;or existing challenges&nbsp\;in implementing sustainable&nbsp\;urbanisation&nbsp\;projects in ASEAN\, and raise ideas on priority opportunities to drive sustainable&nbsp\;urbanisation</span></span><span style="font-family: arial\, helvetica\, sans-serif\; font-size: 16px\;">.&nbsp\;</span>
LOCATION:US-ASEAN Business Council Singapore Office Shaw Tower 100 Beach Road #22-04/05 Singapore 189702
UID:e.9078.6523
SEQUENCE:3
DTSTAMP:20260419T202803Z
URL:http://usasean.memberzone.com/events/details/roundtable-on-the-asean-sustainable-urbanisation-strategy-project-6523
END:VEVENT

END:VCALENDAR
