BEGIN:VCALENDAR
VERSION:2.0
PRODID:-//ChamberMaster//Event Calendar 2.0//EN
METHOD:PUBLISH
X-PUBLISHED-TTL:P3D
REFRESH-INTERVAL:P3D
CALSCALE:GREGORIAN
BEGIN:VEVENT
DTSTART:20190904T183000Z
DTEND:20190904T203000Z
X-MICROSOFT-CDO-ALLDAYEVENT:FALSE
SUMMARY:Roundtable on Investment Cooperation in Vietnam and Vinh Phuc Province
DESCRIPTION:Roundtable on Investment Cooperation in Vietnam and Vinh Phuc Province\n\nFeaturing\n\nMr. Pham Hung Tam\, Deputy Chief of Mission\, Embassy of Vietnam\n\nand\n\nMr. Nguyen Van Tri\, Chairman of the Vinh Phuc People's Committee
X-ALT-DESC;FMTTYPE=text/html:Roundtable on Investment Cooperation in Vietnam and Vinh Phuc Province<br />\nFeaturing<br />\nMr. Pham Hung Tam\, Deputy Chief of Mission\, Embassy of Vietnam<br />\nand<br />\nMr. Nguyen Van Tri\, Chairman of the Vinh Phuc People&#39\;s Committee
LOCATION:US-ASEAN Business Council 1101 17th Street NW\, Suite 411 Washington\, DC 20036
UID:e.9078.7990
SEQUENCE:3
DTSTAMP:20260424T211553Z
URL:http://usasean.memberzone.com/events/details/roundtable-on-investment-cooperation-in-vietnam-and-vinh-phuc-province-7990
END:VEVENT

END:VCALENDAR
