BEGIN:VCALENDAR
VERSION:2.0
PRODID:-//ChamberMaster//Event Calendar 2.0//EN
METHOD:PUBLISH
X-PUBLISHED-TTL:P3D
REFRESH-INTERVAL:P3D
CALSCALE:GREGORIAN
BEGIN:VEVENT
DTSTART;VALUE=DATE:20120625
DTEND;VALUE=DATE:20120626
TRANSP:TRANSPARENT
X-MICROSOFT-CDO-ALLDAYEVENT:TRUE
SUMMARY:Roundtable - Myanmar Sanctions with Seth Bleiweis\, Financial Attache for Southeast Asia\, U.S. Treasury - Jun 25 2012
DESCRIPTION:
X-ALT-DESC;FMTTYPE=text/html:
LOCATION:
UID:e.9078.498
SEQUENCE:3
DTSTAMP:20260425T004354Z
URL:http://usasean.memberzone.com/events/details/roundtable-myanmar-sanctions-with-seth-bleiweis-financial-attache-for-southeast-asia-u-s-treasury-jun-25-2012-06-25-2012-498
END:VEVENT

END:VCALENDAR
