BEGIN:VCALENDAR
VERSION:2.0
PRODID:-//ChamberMaster//Event Calendar 2.0//EN
METHOD:PUBLISH
X-PUBLISHED-TTL:P3D
REFRESH-INTERVAL:P3D
CALSCALE:GREGORIAN
BEGIN:VEVENT
DTSTART;VALUE=DATE:20140711
DTEND;VALUE=DATE:20140712
TRANSP:TRANSPARENT
X-MICROSOFT-CDO-ALLDAYEVENT:TRUE
SUMMARY:Roundtable Meeting with Indonesia Minister of Health
DESCRIPTION:Roundtable Meeting with Indonesia Minister of Health
X-ALT-DESC;FMTTYPE=text/html:Roundtable Meeting with Indonesia Minister of Health
LOCATION:TBC
UID:e.9078.1196
SEQUENCE:3
DTSTAMP:20260420T073159Z
URL:http://usasean.memberzone.com/events/details/roundtable-meeting-with-indonesia-minister-of-health-07-11-2014-1196
END:VEVENT

END:VCALENDAR
