BEGIN:VCALENDAR
VERSION:2.0
PRODID:-//ChamberMaster//Event Calendar 2.0//EN
METHOD:PUBLISH
X-PUBLISHED-TTL:P3D
REFRESH-INTERVAL:P3D
CALSCALE:GREGORIAN
BEGIN:VEVENT
DTSTART:20230323T060000Z
DTEND:20230323T070000Z
X-MICROSOFT-CDO-ALLDAYEVENT:FALSE
SUMMARY:Roundtable Discussion with Zach Hauser\, an Advisor in the Department of Energy’s Office of Asian Affairs
DESCRIPTION:On Thursday 23rd March 2023\, US-ASEAN Business Council held a Roundtable Discussion with Zach Hauser\, an Advisor in the Department of Energy's Office of Asian Affairs.
X-ALT-DESC;FMTTYPE=text/html:On Thursday 23rd March 2023<span style="font-family: calibri\, sans-serif\; font-size: 14.6667px\;">\, US-ASEAN Business Council held a </span><span style="font-family: calibri\, sans-serif\;"><span style="font-size: 11pt\;">Roundtable Discussion with Zach Hauser\, an Advisor in the Department of Energy&rsquo\;s Office of Asian Affairs.&nbsp\;</span></span>
LOCATION:Board Room on 23rd floor (AIG) of Siam Piwat Tower.
UID:e.9078.8990
SEQUENCE:3
DTSTAMP:20260421T125157Z
URL:http://usasean.memberzone.com/events/details/roundtable-discussion-with-zach-hauser-an-advisor-in-the-department-of-energy-s-office-of-asian-affairs-8990
END:VEVENT

END:VCALENDAR
