BEGIN:VCALENDAR
VERSION:2.0
PRODID:-//ChamberMaster//Event Calendar 2.0//EN
METHOD:PUBLISH
X-PUBLISHED-TTL:P3D
REFRESH-INTERVAL:P3D
CALSCALE:GREGORIAN
BEGIN:VEVENT
DTSTART:20190821T180000Z
DTEND:20190821T190000Z
X-MICROSOFT-CDO-ALLDAYEVENT:FALSE
SUMMARY:Roundtable Discussion with W. Patrick Murphy\, Incoming U.S. Ambassador to Cambodia
DESCRIPTION:Roundtable Discussion with W. Patrick Murphy\, Incoming U.S. Ambassador to Cambodia
X-ALT-DESC;FMTTYPE=text/html:Roundtable Discussion with W. Patrick Murphy\, Incoming U.S. Ambassador to Cambodia
LOCATION:US-ASEAN Business Council 1101 17th Street NW\, Suite 411 Washington\, DC
UID:e.9078.8004
SEQUENCE:3
DTSTAMP:20260424T224113Z
URL:http://usasean.memberzone.com/events/details/roundtable-discussion-with-w-patrick-murphy-incoming-u-s-ambassador-to-cambodia-8004
END:VEVENT

END:VCALENDAR
