BEGIN:VCALENDAR
VERSION:2.0
PRODID:-//ChamberMaster//Event Calendar 2.0//EN
METHOD:PUBLISH
X-PUBLISHED-TTL:P3D
REFRESH-INTERVAL:P3D
CALSCALE:GREGORIAN
BEGIN:VEVENT
DTSTART:20230210T150000Z
DTEND:20230210T160000Z
X-MICROSOFT-CDO-ALLDAYEVENT:FALSE
SUMMARY:Roundtable discussion with USAID AA Michael Schiffer (new schedule)
DESCRIPTION:Roundtable discussion (in-person) with Michael Schiffer\, USAID Assistant Administrator of the Bureau for Asia\, on promoting U.S. public   private partnership in Vietnam
X-ALT-DESC;FMTTYPE=text/html:Roundtable discussion (in-person) with Michael Schiffer\, USAID Assistant Administrator of the Bureau for Asia\, on promoting U.S. public &ndash\; private partnership in Vietnam
LOCATION:US-ASEAN Business Council 1101 17th Street NW\, Suite 411 Washington\, D.C. 20036
UID:e.9078.8949
SEQUENCE:3
DTSTAMP:20260421T174419Z
URL:http://usasean.memberzone.com/events/details/roundtable-discussion-with-usaid-aa-michael-schiffer-new-schedule-8949
END:VEVENT

END:VCALENDAR
