BEGIN:VCALENDAR
VERSION:2.0
PRODID:-//ChamberMaster//Event Calendar 2.0//EN
METHOD:PUBLISH
X-PUBLISHED-TTL:P3D
REFRESH-INTERVAL:P3D
CALSCALE:GREGORIAN
BEGIN:VEVENT
DTSTART:20130221T133000Z
DTEND:20130221T150000Z
X-MICROSOFT-CDO-ALLDAYEVENT:FALSE
SUMMARY:Roundtable discussion with US Staffdel
DESCRIPTION:The US-ASEAN Business Council and AmCham Singapore are pleased to invite you to a Roundtable Discussion with a delegation of high-level U.S. Congressional Staff Members on February 21\, 8:30 a.m. in Singapore.
X-ALT-DESC;FMTTYPE=text/html:<span style="font-family:tahoma\,sans-serif\;"><span style="font-size:10pt\;">The US-ASEAN Business Council and AmCham Singapore are pleased to invite you to a&nbsp\;Roundtable Discussion with a delegation of high-level U.S. Congressional Staff Members&nbsp\;on February 21\, 8:30 a.m. in Singapore.</span></span>
LOCATION:Venue: International Involvement Hub (I2Hub) The Atrium@Orchard\, 60A Orchard Road\, #04-01 Tower 1 Singapore 238890
UID:e.9078.704
SEQUENCE:3
DTSTAMP:20260422T081125Z
URL:http://usasean.memberzone.com/events/details/roundtable-discussion-with-us-staffdel-02-21-2013-704
END:VEVENT

END:VCALENDAR
