BEGIN:VCALENDAR
VERSION:2.0
PRODID:-//ChamberMaster//Event Calendar 2.0//EN
METHOD:PUBLISH
X-PUBLISHED-TTL:P3D
REFRESH-INTERVAL:P3D
CALSCALE:GREGORIAN
BEGIN:VEVENT
DTSTART:20230913T010000Z
DTEND:20230913T143000Z
X-MICROSOFT-CDO-ALLDAYEVENT:FALSE
SUMMARY:Roundtable Discussion with US CDC Regional Director
DESCRIPTION:Hybrid roundtable in Singapore office and via Zoom with Dr. John MacArthur\, CDC Southeast Asia Regional Director.
X-ALT-DESC;FMTTYPE=text/html:Hybrid roundtable in Singapore office and via Zoom with Dr. John MacArthur\, CDC Southeast Asia Regional Director.&nbsp\;
LOCATION:
UID:e.9078.9139
SEQUENCE:3
DTSTAMP:20260421T160248Z
URL:http://usasean.memberzone.com/events/details/roundtable-discussion-with-us-cdc-regional-director-9139
END:VEVENT

END:VCALENDAR
