BEGIN:VCALENDAR
VERSION:2.0
PRODID:-//ChamberMaster//Event Calendar 2.0//EN
METHOD:PUBLISH
X-PUBLISHED-TTL:P3D
REFRESH-INTERVAL:P3D
CALSCALE:GREGORIAN
BEGIN:VEVENT
DTSTART:20230310T080000Z
DTEND:20230310T090000Z
X-MICROSOFT-CDO-ALLDAYEVENT:FALSE
SUMMARY:Roundtable Discussion with U.S. trade delegation from NASDA
DESCRIPTION:On Friday 10th March 2023\, US-ASEAN Business Council held a Roundtable Discussion with the delegation from NASDA. This trade delegation is coming to Thailand with the objective to build trade relationships with government\, industry organizations\, and key private sector partners.
X-ALT-DESC;FMTTYPE=text/html:On Friday 10th March 2023<span style="font-family: calibri\, sans-serif\; font-size: 14.6667px\;">\, US-ASEAN Business Council held a Roundtable Discussion with&nbsp\;</span><span style="font-family: calibri\, sans-serif\;"><span style="font-size: 11pt\;">the delegation from NASDA.&nbsp\;This trade delegation is coming to Thailand with the objective to build trade relationships with government\, industry organizations\, and key private sector partners.&nbsp\;</span></span>
LOCATION:Board Room on 23rd floor (AIG) of Siam Piwat Tower.
UID:e.9078.8980
SEQUENCE:3
DTSTAMP:20260421T123635Z
URL:http://usasean.memberzone.com/events/details/roundtable-discussion-with-u-s-trade-delegation-from-nasda-8980
END:VEVENT

END:VCALENDAR
