BEGIN:VCALENDAR
VERSION:2.0
PRODID:-//ChamberMaster//Event Calendar 2.0//EN
METHOD:PUBLISH
X-PUBLISHED-TTL:P3D
REFRESH-INTERVAL:P3D
CALSCALE:GREGORIAN
BEGIN:VEVENT
DTSTART:20180504T041500Z
DTEND:20180504T054500Z
X-MICROSOFT-CDO-ALLDAYEVENT:FALSE
SUMMARY:Roundtable Discussion with U.S. Senate Staffdel - May 4\, 2018
DESCRIPTION:
X-ALT-DESC;FMTTYPE=text/html:
LOCATION:AmCham Office\, 1 Scotts Rd\, #23-03 Shaw Centre
UID:e.9078.6535
SEQUENCE:3
DTSTAMP:20260420T014238Z
URL:http://usasean.memberzone.com/events/details/roundtable-discussion-with-u-s-senate-staffdel-may-4-2018-6535
END:VEVENT

END:VCALENDAR
