BEGIN:VCALENDAR
VERSION:2.0
PRODID:-//ChamberMaster//Event Calendar 2.0//EN
METHOD:PUBLISH
X-PUBLISHED-TTL:P3D
REFRESH-INTERVAL:P3D
CALSCALE:GREGORIAN
BEGIN:VEVENT
DTSTART:20180404T000000Z
DTEND:20180404T013000Z
X-MICROSOFT-CDO-ALLDAYEVENT:FALSE
SUMMARY:Roundtable Discussion with U.S. Congressional Staff Members Delegation (Staffdel)
DESCRIPTION:The US Congressional Staff Members Delegation (Staffdel) will be visiting to develop a better understand Singapore's policies and viewpoints\, especially pertaining to U.S.-Singapore relations which include regional business and trade dynamics.
X-ALT-DESC;FMTTYPE=text/html:The US Congressional Staff Members Delegation (Staffdel) will be visiting to develop a better understand Singapore&#39\;s policies and viewpoints\, especially pertaining to U.S.-Singapore relations which include regional business and trade dynamics.&nbsp\;
LOCATION:1 Scotts Road #23-03 Shaw Centre Stamford American Auditorium AmCham Singapore
UID:e.9078.6508
SEQUENCE:3
DTSTAMP:20260419T220457Z
URL:http://usasean.memberzone.com/events/details/roundtable-discussion-with-u-s-congressional-staff-members-delegation-staffdel-6508
END:VEVENT

END:VCALENDAR
