BEGIN:VCALENDAR
VERSION:2.0
PRODID:-//ChamberMaster//Event Calendar 2.0//EN
METHOD:PUBLISH
X-PUBLISHED-TTL:P3D
REFRESH-INTERVAL:P3D
CALSCALE:GREGORIAN
BEGIN:VEVENT
DTSTART:20140219T200000Z
DTEND:20140219T210000Z
X-MICROSOFT-CDO-ALLDAYEVENT:FALSE
SUMMARY:Roundtable Discussion with Singapore Defense Attache Brig. Gen. LEONG Kum Wah
DESCRIPTION:Members are invited to a roundtable discussion with the new Singaporean Military Attach  to Washington D.C.\, Brig. Gen. LEONG Kum Wah.
X-ALT-DESC;FMTTYPE=text/html:<span style="font-family:arial\;"><span style="font-size: 16px\;">Members are invited to a roundtable discussion with the new Singaporean Military Attach&eacute\; to Washington D.C.\, Brig. Gen. LEONG Kum Wah.</span></span>
LOCATION:1101 17th Street NW Suite 411
UID:e.9078.1035
SEQUENCE:3
DTSTAMP:20260421T023231Z
URL:http://usasean.memberzone.com/events/details/roundtable-discussion-with-singapore-defense-attache-brig-gen-leong-kum-wah-02-19-2014-1035
END:VEVENT

END:VCALENDAR
