BEGIN:VCALENDAR
VERSION:2.0
PRODID:-//ChamberMaster//Event Calendar 2.0//EN
METHOD:PUBLISH
X-PUBLISHED-TTL:P3D
REFRESH-INTERVAL:P3D
CALSCALE:GREGORIAN
BEGIN:VEVENT
DTSTART:20180619T193000Z
DTEND:20180619T203000Z
X-MICROSOFT-CDO-ALLDAYEVENT:FALSE
SUMMARY:Roundtable Discussion with Senior Commercial/Econ Staff\, U.S. Embassy\, Yangon
DESCRIPTION:
X-ALT-DESC;FMTTYPE=text/html:
LOCATION:US-ASEAN Business Council 1101 17th Street\, NW Washington\, DC 20036
UID:e.9078.6601
SEQUENCE:3
DTSTAMP:20260419T235529Z
URL:http://usasean.memberzone.com/events/details/roundtable-discussion-with-senior-commercial-econ-staff-u-s-embassy-yangon-6601
END:VEVENT

END:VCALENDAR
