BEGIN:VCALENDAR
VERSION:2.0
PRODID:-//ChamberMaster//Event Calendar 2.0//EN
METHOD:PUBLISH
X-PUBLISHED-TTL:P3D
REFRESH-INTERVAL:P3D
CALSCALE:GREGORIAN
BEGIN:VEVENT
DTSTART:20140411T194500Z
DTEND:20140411T203000Z
X-MICROSOFT-CDO-ALLDAYEVENT:FALSE
SUMMARY:Roundtable Discussion with Secretary Cesar Purisima
DESCRIPTION:
X-ALT-DESC;FMTTYPE=text/html:
LOCATION:TBC
UID:e.9078.1111
SEQUENCE:3
DTSTAMP:20260420T174214Z
URL:http://usasean.memberzone.com/events/details/roundtable-discussion-with-secretary-cesar-purisima-04-11-2014-1111
END:VEVENT

END:VCALENDAR
