BEGIN:VCALENDAR
VERSION:2.0
PRODID:-//ChamberMaster//Event Calendar 2.0//EN
METHOD:PUBLISH
X-PUBLISHED-TTL:P3D
REFRESH-INTERVAL:P3D
CALSCALE:GREGORIAN
BEGIN:VEVENT
DTSTART;VALUE=DATE:20120614
DTEND;VALUE=DATE:20120615
TRANSP:TRANSPARENT
X-MICROSOFT-CDO-ALLDAYEVENT:TRUE
SUMMARY:Roundtable Discussion with Rizal Ramli\, June 14 - Jun 14 2012
DESCRIPTION:
X-ALT-DESC;FMTTYPE=text/html:
LOCATION:
UID:e.9078.532
SEQUENCE:3
DTSTAMP:20260424T230907Z
URL:http://usasean.memberzone.com/events/details/roundtable-discussion-with-rizal-ramli-june-14-jun-14-2012-06-14-2012-532
END:VEVENT

END:VCALENDAR
