BEGIN:VCALENDAR
VERSION:2.0
PRODID:-//ChamberMaster//Event Calendar 2.0//EN
METHOD:PUBLISH
X-PUBLISHED-TTL:P3D
REFRESH-INTERVAL:P3D
CALSCALE:GREGORIAN
BEGIN:VEVENT
DTSTART:20140923T183000Z
DTEND:20140923T200000Z
X-MICROSOFT-CDO-ALLDAYEVENT:FALSE
SUMMARY:Roundtable Discussion with President Aquino of the Philippines
DESCRIPTION:Roundtable Discussion with President Aquino of the Philippines
X-ALT-DESC;FMTTYPE=text/html:Roundtable Discussion with President Aquino of the Philippines
LOCATION:Omni Berkshire Hotel 21 E 52nd St\, New York\, NY
UID:e.9078.1249
SEQUENCE:3
DTSTAMP:20260420T055504Z
URL:http://usasean.memberzone.com/events/details/roundtable-discussion-with-president-aquino-of-the-philippines-09-23-2014-1249
END:VEVENT

END:VCALENDAR
