BEGIN:VCALENDAR
VERSION:2.0
PRODID:-//ChamberMaster//Event Calendar 2.0//EN
METHOD:PUBLISH
X-PUBLISHED-TTL:P3D
REFRESH-INTERVAL:P3D
CALSCALE:GREGORIAN
BEGIN:VEVENT
DTSTART:20180521T143000Z
DTEND:20180521T153000Z
X-MICROSOFT-CDO-ALLDAYEVENT:FALSE
SUMMARY:Roundtable Discussion with Myanmar Trade Development Delegation
DESCRIPTION:
X-ALT-DESC;FMTTYPE=text/html:
LOCATION:US-ASEAN Business Council 1101 17th Street NW\, Suite 411 Washington\, DC 20036
UID:e.9078.6560
SEQUENCE:3
DTSTAMP:20260419T220237Z
URL:http://usasean.memberzone.com/events/details/roundtable-discussion-with-myanmar-trade-development-delegation-6560
END:VEVENT

END:VCALENDAR
