BEGIN:VCALENDAR
VERSION:2.0
PRODID:-//ChamberMaster//Event Calendar 2.0//EN
METHOD:PUBLISH
X-PUBLISHED-TTL:P3D
REFRESH-INTERVAL:P3D
CALSCALE:GREGORIAN
BEGIN:VEVENT
DTSTART:20180403T070000Z
DTEND:20180403T080000Z
X-MICROSOFT-CDO-ALLDAYEVENT:FALSE
SUMMARY:Roundtable discussion with Matthew Hein\, U.S. Department of Commerce
DESCRIPTION:Matthew Hein is an International Trade Specialist in the Office of Health and Information Technologies (OHIT)\, part of the Industry and Analysis division of the International Trade Administration (ITA) in the U.S. Department of Commerce
X-ALT-DESC;FMTTYPE=text/html:<span style="font-family:times new roman\,serif\;"><span style="font-size:12.0pt\;">Matthew Hein is an International Trade Specialist in the Office of Health and Information Technologies (OHIT)\, part of the Industry and Analysis division of the International Trade Administration (ITA) in the U.S. Department of Commerce</span></span>
LOCATION:USABC Singapore Office
UID:e.9078.6510
SEQUENCE:3
DTSTAMP:20260419T204027Z
URL:http://usasean.memberzone.com/events/details/roundtable-discussion-with-matthew-hein-u-s-department-of-commerce-6510
END:VEVENT

END:VCALENDAR
