BEGIN:VCALENDAR
VERSION:2.0
PRODID:-//ChamberMaster//Event Calendar 2.0//EN
METHOD:PUBLISH
X-PUBLISHED-TTL:P3D
REFRESH-INTERVAL:P3D
CALSCALE:GREGORIAN
BEGIN:VEVENT
DTSTART:20180921T033000Z
DTEND:20180921T043000Z
X-MICROSOFT-CDO-ALLDAYEVENT:FALSE
SUMMARY:Roundtable Discussion with Matt Swinehart\, U.S. Treasury
DESCRIPTION:The Council is pleased to invite you to a roundtable discussion with Matt Swinehart\, Counsel for International Trade and Financial Regulatory Policy\, and Lead Financial Services Negotiator at the U.S. Treasury. Matt advises senior White House and Treasury officials on all aspects of trade law and policy and international prudential standards\, and serves as both lead negotiator and senior counsel on a broad range of international matters\, including the recent NAFTA renegotiations. As the chief US lawyer for financial regulatory dialogues\, he also helps lead US engagement in FSB and bilateral dialogues with the EU\, UK\, India and Japan.
X-ALT-DESC;FMTTYPE=text/html:The Council is pleased to invite you to a roundtable discussion with Matt Swinehart\, Counsel for International Trade and Financial Regulatory Policy\, and Lead Financial Services Negotiator at the U.S. Treasury. Matt advises senior White House and Treasury officials on all aspects of trade law and policy and international prudential standards\, and serves as both lead negotiator and senior counsel on a broad range of international matters\, including the recent NAFTA renegotiations. As the chief US lawyer for financial regulatory dialogues\, he also helps lead US engagement in FSB and bilateral dialogues with the EU\, UK\, India and Japan.&nbsp\;
LOCATION:US-ASEAN Business Council\, Singapore Office Shaw Tower 100 Beach Road #22-04/05 Singapore 189702
UID:e.9078.7685
SEQUENCE:3
DTSTAMP:20260420T052411Z
URL:http://usasean.memberzone.com/events/details/roundtable-discussion-with-matt-swinehart-u-s-treasury-7685
END:VEVENT

END:VCALENDAR
