BEGIN:VCALENDAR
VERSION:2.0
PRODID:-//ChamberMaster//Event Calendar 2.0//EN
METHOD:PUBLISH
X-PUBLISHED-TTL:P3D
REFRESH-INTERVAL:P3D
CALSCALE:GREGORIAN
BEGIN:VEVENT
DTSTART;VALUE=DATE:20111116
DTEND;VALUE=DATE:20111117
TRANSP:TRANSPARENT
X-MICROSOFT-CDO-ALLDAYEVENT:TRUE
SUMMARY:Roundtable Discussion with Indonesia's National Economic Council (Agriculture) - Nov 16 2011
DESCRIPTION:
X-ALT-DESC;FMTTYPE=text/html:
LOCATION:
UID:e.9078.518
SEQUENCE:3
DTSTAMP:20260425T221827Z
URL:http://usasean.memberzone.com/events/details/roundtable-discussion-with-indonesia-s-national-economic-council-agriculture-nov-16-2011-11-16-2011-518
END:VEVENT

END:VCALENDAR
