BEGIN:VCALENDAR
VERSION:2.0
PRODID:-//ChamberMaster//Event Calendar 2.0//EN
METHOD:PUBLISH
X-PUBLISHED-TTL:P3D
REFRESH-INTERVAL:P3D
CALSCALE:GREGORIAN
BEGIN:VEVENT
DTSTART:20140318T180000Z
DTEND:20140318T190000Z
X-MICROSOFT-CDO-ALLDAYEVENT:FALSE
SUMMARY:Roundtable Discussion with DTI Undersecretary Adrian Cristobal\, Philippines
DESCRIPTION:Roundtable with Adrian S. Cristobal\, Jr.\n\nUndersecretary\, Industry Development and Trade Policy Group (IDTPG)
X-ALT-DESC;FMTTYPE=text/html:<span style="font: 12px/normal Arial\, Helvetica\, sans-serif\; text-align: justify\; color: rgb(0\, 0\, 0)\; text-transform: none\; text-indent: 0px\; letter-spacing: normal\; word-spacing: 0px\; float: none\; display: inline !important\; white-space: normal\; font-size-adjust: none\; font-stretch: normal\; background-color: rgb(255\, 255\, 255)\; -webkit-text-stroke-width: 0px\;">Roundtable with Adrian S. Cristobal\, Jr.<br />\nUndersecretary\, Industry Development and Trade Policy Group (IDTPG)</span>
LOCATION:TBC
UID:e.9078.1087
SEQUENCE:3
DTSTAMP:20260420T174930Z
URL:http://usasean.memberzone.com/events/details/roundtable-discussion-with-dti-undersecretary-adrian-cristobal-philippines-03-18-2014-1087
END:VEVENT

END:VCALENDAR
