BEGIN:VCALENDAR
VERSION:2.0
PRODID:-//ChamberMaster//Event Calendar 2.0//EN
METHOD:PUBLISH
X-PUBLISHED-TTL:P3D
REFRESH-INTERVAL:P3D
CALSCALE:GREGORIAN
BEGIN:VEVENT
DTSTART:20140904T150000Z
DTEND:20140904T160000Z
X-MICROSOFT-CDO-ALLDAYEVENT:FALSE
SUMMARY:Roundtable Discussion with DG Songsak Saichuea\, MFA\, Thailand
DESCRIPTION:The US-ASEAN Business Council is pleased to invite you to a\n		\n		\n			Roundtable Discussion\n\n			with\n\n			Mr. Songsak Saichuea\n\n			Director General\, Department of American and South Pacific Affairs\, Ministry of Foreign Affairs\, Thailand\n		\n		\n			Thursday\, September 4\, 2014\n\n			11:00am - 12:00pm\n\n			\n\n			US-ASEAN Business Council\n\n			1101 17th NW Suite 411\n\n			Washington\, DC\n		\n		\n			Please respond before COB Tuesday\, September 2\, 2014\n		\n		\n			Please join us for a roundtable discussion with Mr. Songsak Saichuea\, Director General\, Department of American and South Pacific Affairs\, Ministry of Foreign Affairs\, and his delegation. Director General Songsak will be visiting Washington\, DC to meet with the Thai community and also update stakeholders on the latest political and economic developments in Thailand\, including the recent election of General Prayuth Chan-ocha as the next Prime Minister and Thailand's efforts to improve its ranking in the Trafficking In Persons (TIP) report.  \n\n			\n\n			For Director General Songsak's bio\, please click here. \n\n			\n\n			For more information\, please contact Carr Slayton and Wanlapa "Fon" Komkai at cslayton@usasean.org and fwanlapa@usasean.org.
X-ALT-DESC;FMTTYPE=text/html:<table align="center" border="0" cellpadding="0" cellspacing="0" style="width: 650px\;" width="650">\n	<tbody>\n		<tr>\n			<td style="padding: 7.5pt 0in 0in\;"><span style="letter-spacing: 0.75pt\;"><span style="font-family: georgia\,serif\;">The US-ASEAN Business Council is pleased to invite you to a</span></span></td>\n		</tr>\n		<tr>\n			<td style="padding: 15pt 0in\;"><strong><span style="letter-spacing: 0.75pt\;"><span style="font-family: georgia\,serif\;"><span style="font-size: 16pt\;">Roundtable Discussion<br />\n			with<br />\n			<strong><span style="font-family: georgia\,serif\;">Mr.&nbsp\;Songsak&nbsp\;Saichuea</span></strong></span></span></span></strong><br />\n			<strong><span style="letter-spacing: 0.75pt\;"><span style="font-family: georgia\,serif\;"><span style="font-size: 13.5pt\;">Director General\, Department of American and South Pacific Affairs\, Ministry of Foreign Affairs\, Thailand</span></span></span></strong></td>\n		</tr>\n		<tr>\n			<td style="padding: 0in\;"><span style="font-family: georgia\,serif\;">Thursday\, September 4\, 2014<br />\n			11:00am - 12:00pm<br />\n			<br />\n			US-ASEAN Business Council<br />\n			1101 17th&nbsp\;NW Suite 411<br />\n			Washington\, DC</span></td>\n		</tr>\n		<tr>\n			<td style="padding: 7.5pt 0in\;"><span style="font-family: georgia\,serif\;">Please respond before COB Tuesday\, September 2\, 2014</span></td>\n		</tr>\n		<tr>\n			<td style="padding: 0in\;"><span style="font-family: arial\,sans-serif\;">Please join us for a roundtable discussion with Mr.&nbsp\;Songsak&nbsp\;Saichuea\, Director General\, Department of American and South Pacific Affairs\, Ministry of Foreign Affairs\, and his delegation. Director General&nbsp\;Songsak&nbsp\;will be visiting Washington\, DC to meet with the Thai community and also update stakeholders on the latest political and economic developments in Thailand\, including the recent election of General Prayuth Chan-ocha as the next Prime Minister and Thailand&rsquo\;s efforts to improve its ranking in the Trafficking In Persons (TIP) report. &nbsp\;</span><br />\n			<br />\n			<span style="font-family: arial\,sans-serif\;">For Director General Songsak&#39\;s&nbsp\;bio\, please click <a href="http://cloud.chambermaster.com/userfiles/UserFiles/chambers/9078/File/DGSongsakSaicheua.pdf">here</a>.&nbsp\;<br />\n			<br />\n			For more information\, please contact Carr Slayton and Wanlapa &ldquo\;Fon&rdquo\; Komkai at <a href="mailto:cslayton@usasean.org"><span style="color: black\;">cslayton@usasean.org</span></a> and <a href="mailto:fwanlapa@usasean.org"><span style="color: black\;">fwanlapa@usasean.org</span></a>.&nbsp\;</span></td>\n		</tr>\n	</tbody>\n</table>\n\n<div style="clear: both\;">&nbsp\;</div>\n
LOCATION:
UID:e.9078.1239
SEQUENCE:3
DTSTAMP:20260420T055352Z
URL:http://usasean.memberzone.com/events/details/roundtable-discussion-with-dg-songsak-saichuea-mfa-thailand-09-04-2014-1239
END:VEVENT

END:VCALENDAR
