BEGIN:VCALENDAR
VERSION:2.0
PRODID:-//ChamberMaster//Event Calendar 2.0//EN
METHOD:PUBLISH
X-PUBLISHED-TTL:P3D
REFRESH-INTERVAL:P3D
CALSCALE:GREGORIAN
BEGIN:VEVENT
DTSTART;VALUE=DATE:20110923
DTEND;VALUE=DATE:20110924
TRANSP:TRANSPARENT
X-MICROSOFT-CDO-ALLDAYEVENT:TRUE
SUMMARY:Roundtable Discussion with Dennis Voboril - Sep 23 2011
DESCRIPTION:
X-ALT-DESC;FMTTYPE=text/html:
LOCATION:
UID:e.9078.511
SEQUENCE:3
DTSTAMP:20260426T001102Z
URL:http://usasean.memberzone.com/events/details/roundtable-discussion-with-dennis-voboril-sep-23-2011-09-23-2011-511
END:VEVENT

END:VCALENDAR
