BEGIN:VCALENDAR
VERSION:2.0
PRODID:-//ChamberMaster//Event Calendar 2.0//EN
METHOD:PUBLISH
X-PUBLISHED-TTL:P3D
REFRESH-INTERVAL:P3D
CALSCALE:GREGORIAN
BEGIN:VEVENT
DTSTART:20181109T023000Z
DTEND:20181109T040000Z
X-MICROSOFT-CDO-ALLDAYEVENT:FALSE
SUMMARY:Roundtable Discussion with Deloitte Executive Director\, Tax - Thin Siew Chi
DESCRIPTION:Roundtable discussion with Thin Siew Chi\, Executive Director\, Tax (Deloitte). Thin Siew Chi will be sharing her insights on the budget analysis and the implications on policies moving forward.
X-ALT-DESC;FMTTYPE=text/html:Roundtable discussion with Thin Siew Chi\, Executive Director\, Tax (Deloitte). Thin Siew Chi will be sharing her insights on the budget analysis and the implications on policies moving forward.
LOCATION:26th Floor Maxis Tower Kuala Lumpur City Centre 50088 Kuala Lumpur
UID:e.9078.7725
SEQUENCE:3
DTSTAMP:20260420T121713Z
URL:http://usasean.memberzone.com/events/details/roundtable-discussion-with-deloitte-executive-director-tax-thin-siew-chi-7725
END:VEVENT

END:VCALENDAR
