BEGIN:VCALENDAR
VERSION:2.0
PRODID:-//ChamberMaster//Event Calendar 2.0//EN
METHOD:PUBLISH
X-PUBLISHED-TTL:P3D
REFRESH-INTERVAL:P3D
CALSCALE:GREGORIAN
BEGIN:VEVENT
DTSTART:20180322T020000Z
DTEND:20180322T030000Z
X-MICROSOFT-CDO-ALLDAYEVENT:FALSE
SUMMARY:Roundtable Discussion with Ambassador Wendy Sherman
DESCRIPTION:Ambassador Wendy Sherman\, Albright Stonebridge Group Senior Counselor and former Undersecretary of State for Political Affairs at the US Department of State\, will be discussing geopolitical trends in the overall Asia-Pacific and development in the U.S. Foreign Policy\, particularly around Northeast Asian security and its implications on ASEAN and Southeast Asian policy.
X-ALT-DESC;FMTTYPE=text/html:Ambassador Wendy Sherman\, Albright Stonebridge Group Senior Counselor and former Undersecretary of State for Political Affairs at the US Department of State\, will be discussing geopolitical trends in the overall Asia-Pacific and development in the U.S. Foreign Policy\, particularly around Northeast Asian security and its implications on ASEAN and Southeast Asian policy.&nbsp\;
LOCATION:US-ASEAN Business Council\, Singapore Office\, Shaw Towers 100 Beach Road #22-04/05
UID:e.9078.6493
SEQUENCE:3
DTSTAMP:20260419T184220Z
URL:http://usasean.memberzone.com/events/details/roundtable-discussion-with-ambassador-wendy-sherman-6493
END:VEVENT

END:VCALENDAR
