BEGIN:VCALENDAR
VERSION:2.0
PRODID:-//ChamberMaster//Event Calendar 2.0//EN
METHOD:PUBLISH
X-PUBLISHED-TTL:P3D
REFRESH-INTERVAL:P3D
CALSCALE:GREGORIAN
BEGIN:VEVENT
DTSTART:20141120T210000Z
DTEND:20141120T220000Z
X-MICROSOFT-CDO-ALLDAYEVENT:FALSE
SUMMARY:Roundtable Discussion with Ambassador Ted Osius
DESCRIPTION:Members Briefing with Ambassador Ted Osius
X-ALT-DESC;FMTTYPE=text/html:Members Briefing with Ambassador Ted Osius&nbsp\;&nbsp\;&nbsp\;&nbsp\;&nbsp\;&nbsp\;&nbsp\;
LOCATION:US-ASEAN Business Council 1101 17th Street\, NW\, Ste. 411 Washington\, DC 20036
UID:e.9078.1315
SEQUENCE:3
DTSTAMP:20260420T001613Z
URL:http://usasean.memberzone.com/events/details/roundtable-discussion-with-ambassador-ted-osius-11-20-2014-1315
END:VEVENT

END:VCALENDAR
