BEGIN:VCALENDAR
VERSION:2.0
PRODID:-//ChamberMaster//Event Calendar 2.0//EN
METHOD:PUBLISH
X-PUBLISHED-TTL:P3D
REFRESH-INTERVAL:P3D
CALSCALE:GREGORIAN
BEGIN:VEVENT
DTSTART:20230508T180000Z
DTEND:20230508T190000Z
X-MICROSOFT-CDO-ALLDAYEVENT:FALSE
SUMMARY:Roundtable Discussion on Vietnam's energy transition
DESCRIPTION:
X-ALT-DESC;FMTTYPE=text/html:
LOCATION:US-ASEAN Business Council 1101 17th St. NW\, Suite 411 Washington\, DC 20036
UID:e.9078.9019
SEQUENCE:3
DTSTAMP:20260421T123635Z
URL:http://usasean.memberzone.com/events/details/roundtable-discussion-on-vietnam-s-energy-transition-9019
END:VEVENT

END:VCALENDAR
