BEGIN:VCALENDAR
VERSION:2.0
PRODID:-//ChamberMaster//Event Calendar 2.0//EN
METHOD:PUBLISH
X-PUBLISHED-TTL:P3D
REFRESH-INTERVAL:P3D
CALSCALE:GREGORIAN
BEGIN:VEVENT
DTSTART:20140716T063000Z
DTEND:20140716T083000Z
X-MICROSOFT-CDO-ALLDAYEVENT:FALSE
SUMMARY:Roundtable Discussion on the Workforce Implications of the ASEAN Economic Community (AEC)
DESCRIPTION:Roundtable discussion on the workforce implications of the ASEAN Economic Community (AEC) in 2015 and what it means for the private sector.
X-ALT-DESC;FMTTYPE=text/html:Roundtable discussion on the workforce implications of the ASEAN Economic Community (AEC) in 2015 and what it means for the private sector.&nbsp\;
LOCATION:Hotel Mulia Senayan\, Jakarta Narcissus Room\, Business Center at Mezzanine Floor
UID:e.9078.1182
SEQUENCE:3
DTSTAMP:20260420T072421Z
URL:http://usasean.memberzone.com/events/details/roundtable-discussion-on-the-workforce-implications-of-the-asean-economic-community-aec-07-16-2014-1182
END:VEVENT

END:VCALENDAR
