BEGIN:VCALENDAR
VERSION:2.0
PRODID:-//ChamberMaster//Event Calendar 2.0//EN
METHOD:PUBLISH
X-PUBLISHED-TTL:P3D
REFRESH-INTERVAL:P3D
CALSCALE:GREGORIAN
BEGIN:VEVENT
DTSTART:20180502T140000Z
DTEND:20180503T030000Z
X-MICROSOFT-CDO-ALLDAYEVENT:FALSE
SUMMARY:Roundtable Discussion on Infrastructure Development in the Philippines
DESCRIPTION:The Meridian International Center and the US-ASEAN Business Council are pleased to invite you to a roundtable discussion on Developing Infrastructure for Economic Growth in the Philippines with a delegation from the:\n\n\n	Philippine Department of Transportation (DOTr)\,\n	Bases Conversion and Development Authority (BCDA)\,\n	Public-Private Partnership Center of the Philippines (PPP Center).\n\n\nThe delegation is interested in hearing from U.S. companies on best practices for the procurement and implementation of large scale infrastructure projects.  The delegation would also like to discuss:\n\n\n	Business models for the implementation of utilities\,\n	Management development\,\n	Open space development (e.g. parks and greenways)\,\n	ICT implementation in developing countries. \n\n\nThe delegation includes the following representatives:\n\n\n	Atty. Mark Steven Pastor\, Assistant Secretary for Legal Affairs\, DOTr\;\n	Atty. Mia Mary Sebastian\, Deputy Executive Director\, PPP Center\;\n	Ms. Frances Yani Domingo\, Director for Legal Services\, PPP Center\;\n	Ms. Gerber Eresmas\, Project Management Officer\, BCDA.\n\n\nMore information on the delegation\, including their official bios\, can be found here.  Though the roundtable is currently scheduled for one hour\, there will be the option to continue the discussion beyond the 11:00 AM stop time.  The delegation has been invited to the United States under the auspices of the Department of State's International Visitor Leadership Program. Their program is arranged by Meridian International Center.\n\n\n\nIf you have any questions about the event or would like to RSVP\, please email Ms. Maddie Orange at morange@meridian.org.
X-ALT-DESC;FMTTYPE=text/html:<div>The Meridian International Center and the US-ASEAN Business Council are pleased to invite you to a roundtable discussion on Developing Infrastructure for Economic Growth in the Philippines with a delegation from the:</div>\n\n<ul>\n	<li>Philippine Department of Transportation (DOTr)\,</li>\n	<li>Bases Conversion and Development Authority (BCDA)\,</li>\n	<li>Public-Private Partnership Center of the Philippines (PPP Center).</li>\n</ul>\n\n<div>The delegation is interested in hearing from U.S. companies on best practices for the procurement and implementation of large scale infrastructure projects.&nbsp\; The delegation would also like to discuss:</div>\n\n<ul>\n	<li>Business models for the implementation of utilities\,</li>\n	<li>Management development\,</li>\n	<li>Open space development (e.g. parks and greenways)\,</li>\n	<li>ICT implementation in developing countries.&nbsp\;</li>\n</ul>\n\n<div>The delegation includes the following representatives:</div>\n\n<ul>\n	<li>Atty. Mark Steven Pastor\, Assistant Secretary for Legal Affairs\, DOTr\;</li>\n	<li>Atty. Mia Mary Sebastian\, Deputy Executive Director\, PPP Center\;</li>\n	<li>Ms. Frances Yani Domingo\, Director for Legal Services\, PPP Center\;</li>\n	<li>Ms. Gerber Eresmas\, Project Management Officer\, BCDA.</li>\n</ul>\n\n<div>More information on the delegation\, including their official bios\, can be found <a href="https://chambermaster.blob.core.windows.net/userfiles/UserFiles/chambers/9078/File/201805-MIC-USABCInfraRT-DelegationBios1.pdf">here</a>.&nbsp\; Though the roundtable is currently scheduled for one hour\, there will be the option to continue the discussion beyond the 11:00 AM stop time.&nbsp\; The delegation has been invited to the United States under the auspices of the Department of State&#39\;s International Visitor Leadership Program. Their program is arranged by Meridian International Center.<br />\n<br />\n<strong>If you have any questions about the event or would like to RSVP\, please email Ms. Maddie Orange at morange@meridian.org.</strong></div>\n
LOCATION:Meridian International Center - White Meyer House 1624 Crescent Place NW Washington\, DC
UID:e.9078.6542
SEQUENCE:3
DTSTAMP:20260419T220243Z
URL:http://usasean.memberzone.com/events/details/roundtable-discussion-on-infrastructure-development-in-the-philippines-6542
END:VEVENT

END:VCALENDAR
