BEGIN:VCALENDAR
VERSION:2.0
PRODID:-//ChamberMaster//Event Calendar 2.0//EN
METHOD:PUBLISH
X-PUBLISHED-TTL:P3D
REFRESH-INTERVAL:P3D
CALSCALE:GREGORIAN
BEGIN:VEVENT
DTSTART:20191219T020000Z
DTEND:20191219T052500Z
X-MICROSOFT-CDO-ALLDAYEVENT:FALSE
SUMMARY:Roundtable Discussion on "Further Together: Improving Access to Healthcare through Partnership"
DESCRIPTION:In light of World Heart Day and World Stroke Day 2019\, US-ABC will be organizing a roundtable discussion with a key theme of "Further Together: Improving Access to Healthcare through Partnership." Given that cardiovascular disease has become the leading cause of death in Indonesia\, US-ABC recognizes the urgency to facilitate engagement with relevant Indonesian government officials\, associations\, health professionals\, the private sector and hospital management to explore possible areas of cooperation in improving the treatment of cardiovascular disease in Indonesia. The roundtable discussion is also aimed at developing a constructive dialogue forum for related stakeholders to forge new paths and partnerships that help healthcare systems improve clinical outcomes\, expand access to care and optimize operational efficiencies.
X-ALT-DESC;FMTTYPE=text/html:<span style="font-family:calibri\,sans-serif\;"><span style="font-size:11.0pt\;">In light of World Heart Day and World Stroke Day 2019\, US-ABC will be organizing a roundtable discussion with a key theme of <strong><em>&ldquo\;Further Together: Improving Access to Healthcare through Partnership.&rdquo\;</em></strong> Given that cardiovascular disease has become the leading cause of death in Indonesia\, US-ABC recognizes the urgency to facilitate engagement with relevant Indonesian government officials\, associations\, health professionals\, the private sector and hospital management <strong>to explore possible areas of cooperation in improving the treatment of cardiovascular disease in Indonesia</strong>. The roundtable discussion is also aimed at developing a constructive dialogue forum for related stakeholders to forge new paths and partnerships that help healthcare systems improve clinical outcomes\, expand access to care and optimize operational efficiencies.</span></span>
LOCATION:The Westin Jakarta\, Padang Room 2 - 1st Level\, Jl. H.R. Rasuna Said Kav. C-22 A\, Jakarta 12940 Indonesia
UID:e.9078.8105
SEQUENCE:3
DTSTAMP:20260424T171104Z
URL:http://usasean.memberzone.com/events/details/roundtable-discussion-on-further-together-improving-access-to-healthcare-through-partnership-8105
END:VEVENT

END:VCALENDAR
