BEGIN:VCALENDAR
VERSION:2.0
PRODID:-//ChamberMaster//Event Calendar 2.0//EN
METHOD:PUBLISH
X-PUBLISHED-TTL:P3D
REFRESH-INTERVAL:P3D
CALSCALE:GREGORIAN
BEGIN:VEVENT
DTSTART:20230918T130000Z
DTEND:20230918T140000Z
X-MICROSOFT-CDO-ALLDAYEVENT:FALSE
SUMMARY:Roundtable discussion on cybersecurity with delegation from Vietnam
DESCRIPTION:
X-ALT-DESC;FMTTYPE=text/html:
LOCATION:US-ASEAN Business Council 1101 17th Street NW\, Suite 411\, Washington DC 20036
UID:e.9078.9129
SEQUENCE:3
DTSTAMP:20260421T193251Z
URL:http://usasean.memberzone.com/events/details/roundtable-discussion-on-cybersecurity-with-delegation-from-vietnam-9129
END:VEVENT

END:VCALENDAR
